BEGIN:VCALENDAR
VERSION:2.0
PRODID:-//wp-events-plugin.com//7.2.3.1//EN
TZID:Europe/Athens
X-WR-TIMEZONE:Europe/Athens
BEGIN:VEVENT
UID:92@fest.europeanschoolradio.eu
DTSTART;TZID=Europe/Athens:20230428T130000
DTEND;TZID=Europe/Athens:20230428T140000
DTSTAMP:20230425T063435Z
URL:https://fest.europeanschoolradio.eu/en/events/%ce%ba%ce%b1%ce%bb%ce%bb
 %ce%b9%cf%84%ce%b5%cf%87%ce%bd%ce%b9%ce%ba%cf%8c-%ce%b5%cf%81%ce%b3%ce%b1%
 cf%83%cf%84%ce%ae%cf%81%ce%b9%ce%bf-%cf%81%ce%b1%ce%b4%ce%b9%cf%8c%cf%86%c
 f%89%ce%bd%ce%bf-3/
SUMMARY:Καλλιτεχνικό Εργαστήριο με θέμα το Ρ
 αδιόφωνο - 3
DESCRIPTION:[caption id="attachment_52377" align="alignleft" width="236"] "
 The Magic Box" by Bill Bell Πηγή: fineartamerica.com[/caption]\n\nΠε
 ριγραφή εργαστηρίου: Η ζωγραφική και το 
 ραδιόφωνο θα συμπράξουν! Το καλλιτεχνικ
 ό εργαστήριο στο Πνευματικό Κέντρο θα δώ
 σει την ευκαιρία στους μαθητές να δημιου
 ργήσουν με θέμα το ραδιόφωνο.\n\nΔιάρκεια 
 εργαστηρίου: 1 ώρα\n\nΧωρητικότητα εργαστ
 ηρίου: 25 μαθητές/τριες\n\nΌριο μαθητών/σχο
 λείο: 4 μαθητές/τριες\n\nΥπεύθυνη εργαστηρ
 ίου: Θάλεια Ξενάκη\n\nΠερισσότερες πληροφ
 ορίες\, απορίες και υποστήριξη της προετ
 οιμασίας: Θάλεια Ξενάκη\, thaliaxenaki75@gmail.com\n\n
 &nbsp\;
ATTACH;FMTTYPE=image/jpeg:https://fest.europeanschoolradio.eu/wp-content/u
 ploads/2023/03/retro-radio-elo-marc.jpg
CATEGORIES:Workshop,Primary Schools
LOCATION:[:el]Πνευματικό Κέντρο Ζακύνθου[:]\, Πλ
 ατεία Σολωμού\, Ζάκυνθος\, Ζακύνθου\, 29100\, 
 Greece
X-APPLE-STRUCTURED-LOCATION;VALUE=URI;X-ADDRESS=Πλατεία Σολωμο
 ύ\, Ζάκυνθος\, Ζακύνθου\, 29100\, Greece;X-APPLE-RADIUS=1
 00;X-TITLE=[:el]Πνευματικό Κέντρο Ζακύνθου[:]:geo:
 0,0
END:VEVENT
BEGIN:VTIMEZONE
TZID:Europe/Athens
X-LIC-LOCATION:Europe/Athens
BEGIN:DAYLIGHT
DTSTART:20230326T040000
TZOFFSETFROM:+0200
TZOFFSETTO:+0300
TZNAME:EEST
END:DAYLIGHT
END:VTIMEZONE
END:VCALENDAR