BEGIN:VCALENDAR
VERSION:2.0
PRODID:-//wp-events-plugin.com//7.2.3.1//EN
TZID:Europe/Athens
X-WR-TIMEZONE:Europe/Athens
BEGIN:VEVENT
UID:193@fest.europeanschoolradio.eu
DTSTART;TZID=Europe/Athens:20250410T123000
DTEND;TZID=Europe/Athens:20250410T150000
DTSTAMP:20250308T124855Z
URL:https://fest.europeanschoolradio.eu/en/events/%cf%80%ce%ac%ce%bd%cf%89
 -%ce%b1%cf%80%cf%8c-%cf%84%ce%bf-%ce%b4%ce%af%cf%87%cf%84%cf%85-%cf%84%ce%
 bf%cf%85%cf%81%ce%bd%ce%bf%cf%85%ce%ac-%ce%b2%cf%8c%ce%bb%ce%bb%ce%b5%cf%8
 5/
SUMMARY:[:el]“Πάνω από το Δίχτυ” - Τουρνουά Βό
 λλευ[:en]Workshop: “Over the Net”[:]
DESCRIPTION:[:el]Μέγιστος αριθμός συμμετοχών: 24 
 μαθητές (από τετάρτη δημοτικού έως τρίτη
  γυμνασίου)\n\nΣύνολο: 3 ώρες\n\nΒαθμίδα: Α/θ
 μια\, Β/θμια (τάξεις Δ' Δημ. έως και Γυμνάσ
 ιο)\n\nΥπεύθυνος εργαστηρίου: Μ.Α.Σ. Σιθωνι
 ακός\n\nΣτο τουρνουά βόλεϊ “Πάνω από το Δ
 ίχτυ”\, μαθητές από Τετάρτη Δημοτικού έω
 ς και Γυμνάσιο θα συμμετάσχουν σε ένα δυ
 ναμικό ντέρμπι γεμάτο δράση και ενθουσι
 ασμό. Τέσσερις ομάδες των 6 παιδιών θα αγ
 ωνιστούν ενάντια στις ομάδες του Μ.Α.Σ. Σ
 ιθωνιακού\, σε έναν φιλικό διαγωνισμό πο
 υ υπόσχεται αγωνία και χαμόγελα.\n\nΤο του
 ρνουά είναι σχεδιασμένο για να προσφέρε
 ι στα παιδιά τη χαρά του αθλητισμού\, τη σ
 υνεργασία και το ευ αγωνίζεσθαι. Με την υ
 ποστήριξη προπονητών και συνοδών\, οι συ
 μμετέχοντες θα έχουν την ευκαιρία να βελ
 τιώσουν τις δεξιότητές τους\, να διασκεδ
 άσουν και να γνωρίσουν νέους φίλους μέσα
  από το ομαδικό πνεύμα του βόλεϊ.\n\nΕλάτε 
 να ζήσετε τη μαγεία του παιχνιδιού “πάν
 ω από το δίχτυ” και να απολαύσετε ένα αθ
 λητικό γεγονός γεμάτο ενέργεια και χαρά!
 \nΑπαιτείται κράτηση ![:en]Venue: Nikiti Indoor Gym\n\nPa
 rticipants: 24 students (from fourth grade to sixth grade)\n\nTotal: 3 hou
 rs\n\nPrimary Education\n\nWorkshop manager: M.A.S. Sithonian\n\n\n\nIn th
 e "Over the Net" volleyball tournament\, students from the Fourth grade of
  Elementary to students from High School will participate in a dynamic der
 by full of action and excitement. Four teams of 6 children\, aged 9 to 12 
 years\, will compete against the teams of M.A.S. Sithoniakou\, in a friend
 ly competition that promises excitement and smiles. All teams will play in
  2 matches with 3 or 4 players depending on the age\, while the remaining 
 athletes of each team will be used in the continuous player changes.\n\nTh
 e tournament is designed to offer children the joy of sports\, cooperation
  and fair play. With the support of coaches and chaperones\, participants 
 will have the opportunity to improve their skills\, have fun and meet new 
 friends through the team spirit of volleyball.\n\nA surprise will await th
 e little players after the end of the match\, a delicious buffet for all p
 articipants\, while all children will be given a souvenir papyrus to remem
 ber their enjoyable match moments![:]
ATTACH;FMTTYPE=image/jpeg:https://fest.europeanschoolradio.eu/wp-content/u
 ploads/2025/01/4.png
CATEGORIES:Workshop,Primary Schools
LOCATION:Κλειστό Γυμναστήριο Νικήτης\, Porto Carra
 s \, Νικήτη\, Χαλκιδικής\, 63088\, Πόρτο Καρράς
 \, Greece
X-APPLE-STRUCTURED-LOCATION;VALUE=URI;X-ADDRESS=Porto Carras \, Νικήτ
 η\, Χαλκιδικής\, 63088\, Πόρτο Καρράς\, Greece;X-APP
 LE-RADIUS=100;X-TITLE=Κλειστό Γυμναστήριο Νικήτης
 :geo:0,0
END:VEVENT
BEGIN:VTIMEZONE
TZID:Europe/Athens
X-LIC-LOCATION:Europe/Athens
BEGIN:DAYLIGHT
DTSTART:20250330T040000
TZOFFSETFROM:+0200
TZOFFSETTO:+0300
TZNAME:EEST
END:DAYLIGHT
END:VTIMEZONE
END:VCALENDAR