BEGIN:VCALENDAR
VERSION:2.0
PRODID:-//wp-events-plugin.com//7.2.3.1//EN
TZID:Europe/Athens
X-WR-TIMEZONE:Europe/Athens
BEGIN:VEVENT
UID:271@fest.europeanschoolradio.eu
DTSTART;TZID=Europe/Athens:20260424T190000
DTEND;TZID=Europe/Athens:20260424T220000
DTSTAMP:20260322T084424Z
URL:https://fest.europeanschoolradio.eu/en/events/%f0%9f%92%83-%cf%83%cf%8
 5%ce%bc%ce%bc%ce%b5%cf%84%ce%bf%cf%87%ce%ae-%cf%83%cf%84%ce%b7%ce%bd-%cf%8
 0%ce%b1%ce%b3%ce%ba%cf%8c%cf%83%ce%bc%ce%b9%ce%b1-%ce%b7%ce%bc%ce%ad%cf%81
 %ce%b1-%cf%87%ce%bf%cf%81/
SUMMARY:[:el]💃 Συμμετοχή στην Παγκόσμια Ημέρα
  Χορού[:en]💃 Participation in International Dance Day[:]
DESCRIPTION:[:el]📅 Πρόγραμμα &amp\; Συμμετοχή\n📍 Π
 ού: Πλατεία Ανουντσιάτα (Annunziata)\n⏰ Πότε: Π
 αρασκευή\, 24 Απριλίου 2026 και ώρα 19:00\n👥 Πο
 ιοι: Όλα τα συμμετέχοντα σχολεία\, εκπαιδ
 ευτικοί και φίλοι του ραδιοφώνου.\n\n💡 ΓΙ
 ΑΤΙ ΝΑ ΕΡΘΕΤΕ\; Γιατί ο χορός είναι η απόλ
 υτη μορφή επικοινωνίας. Μετά τις εκπομπέ
 ς και τα μικρόφωνα\, γινόμαστε μια μεγάλη
 \, δυνατή παρέα!\n\nΟ Πολιτιστικός Χορευτι
 κός Όμιλος Κέρκυρας γιορτάζει και φέτος 
 την Παγκόσμια Ημέρα Χορού στην ιστορική 
 Ανουντσιάτα. Με τη συμμετοχή 40 συλλόγων 
 και περίπου 1000 χορευτών\, το Φεστιβάλ μας
  ενώνει τις δυνάμεις του με τον παλμό του
  νησιού!\nΛαϊκή Κληρονομιά: Θα παρουσιαστ
 ούν παραδοσιακοί χοροί από κάθε γωνιά τη
 ς Ελλάδας\, προσφέροντας στους μαθητές μ
 ια ζωντανή επαφή με τον πολιτιστικό μας 
 πλούτο.\nΌλη η Ανουντσιάτα μια Ομάδα: Μετ
 ά τις παρουσιάσεις\, η σκηνή ανήκει σε εσ
 άς! Μαθητές και εκπαιδευτικοί από Ελλάδα
  και Κύπρο γινόμαστε ένας μεγάλος κύκλος
 . Δεν χρειάζεται να ξέρετε τα βήματα – αρ
 κεί να πιαστούμε χέρι-χέρι και να αφήσου
 με τον ρυθμό να μας οδηγήσει.\n\nΔεν απαιτ
 είται Δήλωση Συμμετοχής\n\n\n\n\n[:en]📍 Where: Ann
 unziata Square\n⏰ When: Friday\, April 24\, 2026\, at 19:00\n👥 Who: A
 ll participating schools\, teachers\, and friends of student radio.\n\n\n\
 n💡 WHY JOIN US?\nBecause dance is the ultimate form of communication. A
 fter the broadcasts and the microphones\, we become one big\, vibrant comm
 unity!\nThe Cultural Dance Association of Corfu celebrates International D
 ance Day once again at the historic Annunziata Square. With the participat
 ion of 40 associations and approximately 1\,000 dancers\, our Festival joi
 ns forces with the island's pulse!\n\n\n 	\nFolk Heritage: Traditional dan
 ces from every corner of Greece will be performed\, offering students a vi
 vid encounter with our cultural wealth.\n\n 	\nAll of Annunziata as One Te
 am: After the performances\, the stage belongs to you! Students and teache
 rs from Greece and Cyprus join in a massive circle dance. No need to know 
 the steps – just hold hands and let the rhythm guide you.\n\n\n\n🎟️
  No Registration Required\n\n\n[:]
ATTACH;FMTTYPE=image/jpeg:https://fest.europeanschoolradio.eu/wp-content/u
 ploads/2026/03/IMG_8486.jpeg
CATEGORIES:Activities,Event
END:VEVENT
BEGIN:VTIMEZONE
TZID:Europe/Athens
X-LIC-LOCATION:Europe/Athens
BEGIN:DAYLIGHT
DTSTART:20260329T040000
TZOFFSETFROM:+0200
TZOFFSETTO:+0300
TZNAME:EEST
END:DAYLIGHT
END:VTIMEZONE
END:VCALENDAR