BEGIN:VCALENDAR
VERSION:2.0
PRODID:-//wp-events-plugin.com//7.2.3.1//EN
TZID:Europe/Athens
X-WR-TIMEZONE:Europe/Athens
BEGIN:VEVENT
UID:267@fest.europeanschoolradio.eu
DTSTART;TZID=Europe/Athens:20260424T133000
DTEND;TZID=Europe/Athens:20260424T190000
DTSTAMP:20260322T065126Z
URL:https://fest.europeanschoolradio.eu/events/%ce%b1%cf%81%cf%87%ce%b1%ce
 %b9%ce%bf%ce%bb%ce%bf%ce%b3%ce%b9%ce%ba%cf%8c-%ce%bc%ce%bf%cf%85%cf%83%ce%
 b5%ce%af%ce%bf-%ce%ba%ce%ad%cf%81%ce%ba%cf%85%cf%81%ce%b1%cf%82-2/
SUMMARY:[:el]🏛️ Αρχαιολογικό Μουσείο Κέρκυρα
 ς[:en]🏛️ Archaeological Museum of Corfu[:]
DESCRIPTION:[:el]⏳Διάρκεια: 30 λεπτά\n👥 Μέγιστος 
 αριθμός συμμετοχών ανά γκρουπ: 40 άτομα\n
 🗣️ Τύπος Επίσκεψης: Πραγματοποιείται χ
 ωρίς ξενάγηση.\n&nbsp\;\n\nΤο Αρχαιολογικό Μο
 υσείο Κέρκυρας\, που εγκαινίασε την επαν
 έκθεσή του το 2018\, φιλοξενεί αρχαιότητες 
 από την αρχαία πόλη της Κέρκυρας και το υ
 πόλοιπο νησί. Μέσα από 1.600 εκθέματα αφηγε
 ίται την ιστορία του νησιού από τους προ
 ϊστορικούς χρόνους μέχρι την ύστερη αρχ
 αιότητα. Ανάμεσά τους ξεχωρίζει το μνημε
 ιώδες αέτωμα από τον ναό της Αρτέμιδος μ
 ε την παράσταση της Γοργούς\, το παλαιότε
 ρο σωζόμενο λίθινο αέτωμα της αρχαιοελλ
 ηνικής αρχιτεκτονικής.\n📞 Κρατήσεις: Απ
 ευθείας επικοινωνία με το Μουσείο στο τη
 λέφωνο 26610 30680.\n\n\nΣημείωση: Η επίσκεψη πρ
 αγματοποιείται χωρίς ξεναγό. Παρακαλούν
 ται οι συμμετέχοντες να υπολογίσουν εγκ
 αίρως τον χρόνο μετάβασής τους στον χώρο
 .\n[:en]Maximum number of participants per group: 40 people\nDuration: 30 
 minutes\n&nbsp\;\n\nThe Archaeological Museum of Corfu\, which inaugurated
  its new exhibition in 2018\, houses antiquities from the ancient city of 
 Corfu and the rest of the island. Through 1\,600 exhibits\, it narrates th
 e island's history from prehistoric times to late antiquity. Among them\, 
 the monumental pediment from the Temple of Artemis stands out\, featuring 
 the depiction of the Gorgon\, the oldest surviving stone pediment of ancie
 nt Greek architecture.\n📞 Reservations: Contact the Museum directly at 
 +30 26610 30680.\n\n\nNote: The visit is conducted without a guide. Partic
 ipants are kindly requested to allow sufficient time for their commute to 
 the venue.\n[:]
ATTACH;FMTTYPE=image/jpeg:https://fest.europeanschoolradio.eu/wp-content/u
 ploads/2026/03/αρχείο-λήψης.jpg
CATEGORIES:Μουσείο
LOCATION:[:el]Αρχαιολογικό Μουσείο Κέρκυρας[:en]
 Archaeological Museum of Corfu[:]\, Βραΐλα Αρμένη 1\, Κέρκ
 υρα\, Κέρκυρα\, 491 00\, Ελλάδα
X-APPLE-STRUCTURED-LOCATION;VALUE=URI;X-ADDRESS=Βραΐλα Αρμένη 1
 \, Κέρκυρα\, Κέρκυρα\, 491 00\, Ελλάδα;X-APPLE-RADIUS=
 100;X-TITLE=[:el]Αρχαιολογικό Μουσείο Κέρκυρας[
 :en]Archaeological Museum of Corfu[:]:geo:0,0
END:VEVENT
BEGIN:VTIMEZONE
TZID:Europe/Athens
X-LIC-LOCATION:Europe/Athens
BEGIN:DAYLIGHT
DTSTART:20260329T040000
TZOFFSETFROM:+0200
TZOFFSETTO:+0300
TZNAME:EEST
END:DAYLIGHT
END:VTIMEZONE
END:VCALENDAR