BEGIN:VCALENDAR
VERSION:2.0
PRODID:-//wp-events-plugin.com//7.2.3.1//EN
TZID:Europe/Athens
X-WR-TIMEZONE:Europe/Athens
BEGIN:VEVENT
UID:255@fest.europeanschoolradio.eu
DTSTART;TZID=Europe/Athens:20260423T140000
DTEND;TZID=Europe/Athens:20260424T160000
DTSTAMP:20260322T090937Z
URL:https://fest.europeanschoolradio.eu/events/%ce%b1%cf%81%cf%87%ce%b1%ce
 %b9%ce%bf%ce%bb%ce%bf%ce%b3%ce%b9%ce%ba%cf%8c-%ce%bc%ce%bf%cf%85%cf%83%ce%
 b5%ce%af%ce%bf-%cf%80%ce%b1%ce%bb%ce%b1%ce%b9%cf%8c%cf%80%ce%bf%ce%bb%ce%b
 7%cf%82-%ce%bc%ce%bf/
SUMMARY:[:el]🏛️ Αρχαιολογικό Μουσείο Παλαιόπ
 ολης (Μον Ρεπό)[:en]🏛️ Archaeological Museum of Paleopolis
  (Mon Repo)[:]
DESCRIPTION:[:el]⏳ Διάρκεια: 15 λεπτά (ανά γκρουπ)\
 n👥 Χωρητικότητα: 4 γκρουπ των 50 ατόμων (Σ
 ύνολο: 200 άτομα)\n📞 Τηλέφωνο Επικοινωνία
 ς: 26610 41369\nΤο Μουσείο Παλαιόπολης-Mon Repos βρ
 ίσκεται στο Κτήμα Mon Repos\, σε απόσταση 2 χλ
 μ. περίπου από το κέντρο της σύγχρονης πό
 λης της Κέρκυρας. Στεγάζεται στην ομώνυμ
 η έπαυλη που κτίστηκε κατά την περίοδο τ
 ης Αγγλοκρατίας από τον Ύπατο Αρμοστή Fred
 eric Adam (1828-1831) και αποτελεί χαρακτηριστικό
  δείγμα νεοκλασικής αρχιτεκτονικής της 
 εποχής της Αντιβασιλείας (Regency style). Στο ι
 σόγειο εκτίθενται ενθυμήματα της περιόδ
 ου της Αγγλοκρατίας\, ενώ στον πρώτο όροφ
 ο αρχαιότητες από τον αρχαιολογικό χώρο 
 της Παλαιόπολης.\nΣημαντικές Σημειώσεις:
 \nΔεν παρέχεται επίσημη ξενάγηση. Η επίσκ
 εψη στους χώρους του μουσείου γίνεται αυ
 τόνομα.\nΑπαιτείται κράτηση: Οι ενδιαφερ
 όμενες ομάδες θα πρέπει να έρθουν σε απε
 υθείας συνεννόηση με τον χώρο του Μουσεί
 ου για τον προγραμματισμό της επίσκεψής 
 τους.[:en]⏳ Duration: 15 minutes (per group)\n👥 Capacity: 4 group
 s of 50 people (Total: 200 people)\n📞 Contact Phone: +30 26610 41369\nD
 escription\nThe Palaeopolis-Mon Repos Museum is located within the Mon Rep
 os Estate\, approximately 2 km from the center of modern Corfu town. It is
  housed in the historic villa built during the British Protectorate by the
  High Commissioner Frederic Adam (1828-1831). The building is a prime exam
 ple of neoclassical architecture in the Regency style.\nThe ground floor f
 eatures memorabilia from the British era\, while the first floor showcases
  antiquities from the archaeological site of Palaeopolis.\n\n\n\n\n⚠️ 
 Important Notes\n\n 	\nNo guided tour provided: The visit to the museum pr
 emises is self-guided (autonomous).\n\n 	\nBooking Required: Interested gr
 oups must contact the Museum directly to arrange and schedule their visit.
 \n\n[:]
ATTACH;FMTTYPE=image/jpeg:https://fest.europeanschoolradio.eu/wp-content/u
 ploads/2026/03/αρχείο-λήψης-1.jpg
CATEGORIES:Μουσείο
LOCATION:[:el]Πάρκο Μον Ρεπό[:en]Mon Repos[:]\, Αναλήψε
 ως 31\, Κέρκυρα\, Κέρκυρα\, 491 00\, Ελλάδα
X-APPLE-STRUCTURED-LOCATION;VALUE=URI;X-ADDRESS=Αναλήψεως 31\, Κ
 έρκυρα\, Κέρκυρα\, 491 00\, Ελλάδα;X-APPLE-RADIUS=100;X
 -TITLE=[:el]Πάρκο Μον Ρεπό[:en]Mon Repos[:]:geo:0,0
END:VEVENT
BEGIN:VTIMEZONE
TZID:Europe/Athens
X-LIC-LOCATION:Europe/Athens
BEGIN:DAYLIGHT
DTSTART:20260329T040000
TZOFFSETFROM:+0200
TZOFFSETTO:+0300
TZNAME:EEST
END:DAYLIGHT
END:VTIMEZONE
END:VCALENDAR