BEGIN:VCALENDAR
VERSION:2.0
PRODID:-//wp-events-plugin.com//7.2.3.1//EN
TZID:Europe/Athens
X-WR-TIMEZONE:Europe/Athens
BEGIN:VEVENT
UID:198@fest.europeanschoolradio.eu
DTSTART;TZID=Europe/Athens:20250410T123000
DTEND;TZID=Europe/Athens:20250410T150000
DTSTAMP:20250223T183623Z
URL:https://fest.europeanschoolradio.eu/events/%cf%83%cf%84%ce%b1-%cf%83%c
 e%bf%ce%ba%ce%ac%ce%ba%ce%b9%ce%b1-%cf%84%ce%bf%cf%85-%cf%87%cf%81%cf%8c%c
 e%bd%ce%bf%cf%85-%cf%84%ce%b7%cf%82-%ce%bc%cf%85%cf%81%cf%89%ce%b4%ce%b9%c
 e%ac%cf%82/
SUMMARY:[:el]“Στα σοκάκια του χρόνου\, της μυρω
 διάς και των χρωμάτων”\,[:en]"In the alleys of time\, 
 smell and colors"[:]
DESCRIPTION:[:el]Μέγιστος αριθμός ατόμων: 20 παιδ
 ιά\n\nΣύνολο: 1 ώρα\n\nΒαθμίδα: Α/θμια \n\nΥπε
 ύθυνη εργαστηρίου: Μαρία Ξανθοπούλου\n\nΠ
 εριπατητική διαδρομή 1\,5 χλμ. στο παλιό χ
 ωριό της Νικήτης. Εκκίνηση από το ΚΤΕΛ Χα
 λκιδικής και τερματισμός το λαογραφικό 
 μουσείο Νικήτης”\n\nΑυτό το εργαστήριο π
 ροσφέρει μια μοναδική περιπατητική εμπε
 ιρία\, όπου τα παιδιά θα εξερευνήσουν το 
 παλιό χωριό της Νικήτης\, συνδυάζοντας ι
 στορία\, πολιτισμό και φύση. Η διαδρομή ξ
 εκινά από το ΚΤΕΛ Χαλκιδικής και καταλήγ
 ει στο Λαογραφικό Μουσείο Νικήτης\, με μι
 α εξαιρετική ξενάγηση που θα ζωντανέψει 
 τις ιστορίες του τόπου.\n\nΤα παιδιά (20 στο
  σύνολο\, από Νηπιαγωγείο μέχρι Έκτη Δημο
 τικού) θα περιηγηθούν στα στενά σοκάκια 
 του χωριού\, ανακαλύπτοντας την ιστορία 
 του τόπου μέσα από τις μυρωδιές των λουλ
 ουδιών\, τα χρώματα των σπιτιών και τις π
 αραδόσεις που έχουν διατηρηθεί με την πά
 ροδο του χρόνου. Ο ξεναγός θα αφηγηθεί συ
 ναρπαστικές ιστορίες\, ενώ τα παιδιά θα σ
 υμμετέχουν ενεργά\, αναγνωρίζοντας και σ
 υζητώντας τα διάφορα στοιχεία της παραδ
 οσιακής ζωής.\n\nΑυτή η περιήγηση προσφέρ
 ει μια μοναδική ευκαιρία να συνδυάσουν τ
 η μάθηση με την εξερεύνηση του πολιτιστι
 κού και φυσικού περιβάλλοντος του χωριο
 ύ.\nΑπαιτείται κράτηση ![:en]Participants: 20 children\n
 \nTotal: 1 hour\n\nPrimary Education\n\nWorkshop managers: Maroula Sidirop
 oulou\, Irini Albani\n\n&nbsp\;\n\nWalking route 1.5 km. in the old villag
 e of Nikiti. Start from Halkidiki KTEL and end at Nikiti Folklore Museum\n
 \nThis workshop offers a unique walking experience where children will exp
 lore the old village of Nikiti\, combining history\, culture and nature. T
 he route starts from the Halkidiki KTEL and ends at the Folklore Museum of
  Nikitis\, with an excellent guided tour that will bring to life the stori
 es of the place.\n\nThe children (20 in total\, from Kindergarten to Sixth
  Grade) will tour the narrow streets of the village\, discovering the hist
 ory of the place through the smells of flowers\, the colors of the houses 
 and the traditions that have been preserved over time. The guide will tell
  fascinating stories\, while the children will actively participate\, reco
 gnizing and discussing the different elements of traditional life.\n\nThis
  tour offers a unique opportunity to combine learning with exploring the c
 ultural and natural environment of the village.\n\n&nbsp\;\n\n&nbsp\;[:]
ATTACH;FMTTYPE=image/jpeg:https://fest.europeanschoolradio.eu/wp-content/u
 ploads/2025/01/9.png
CATEGORIES:Eργαστήριο,Πρωτοβάθμιας
LOCATION:Νικήτη\, -\, Νικήτη\, Χαλκιδικής\, 63088\, 
 Ελλάδα
X-APPLE-STRUCTURED-LOCATION;VALUE=URI;X-ADDRESS=-\, Νικήτη\, Χαλκ
 ιδικής\, 63088\, Ελλάδα;X-APPLE-RADIUS=100;X-TITLE=Νικήτ
 η:geo:0,0
END:VEVENT
BEGIN:VTIMEZONE
TZID:Europe/Athens
X-LIC-LOCATION:Europe/Athens
BEGIN:DAYLIGHT
DTSTART:20250330T040000
TZOFFSETFROM:+0200
TZOFFSETTO:+0300
TZNAME:EEST
END:DAYLIGHT
END:VTIMEZONE
END:VCALENDAR