BEGIN:VCALENDAR
VERSION:2.0
PRODID:-//wp-events-plugin.com//7.2.3.1//EN
TZID:Europe/Athens
X-WR-TIMEZONE:Europe/Athens
BEGIN:VEVENT
UID:158@fest.europeanschoolradio.eu
DTSTART;TZID=Europe/Athens:20240426T120000
DTEND;TZID=Europe/Athens:20240426T130000
DTSTAMP:20240416T180759Z
URL:https://fest.europeanschoolradio.eu/en/events/%cf%83%cf%84%ce%b7%ce%bd
 -%ce%b5%cf%80%ce%bf%cf%87%ce%ae-%cf%84%cf%89%ce%bd-fake-news-1200-1300/
SUMMARY:Στην εποχή των Fake news (12:00 - 13:00)
DESCRIPTION:\n\n&nbsp\;\n\nΤο σεμινάριο "Στην Εποχή τ
 ων Fake News" αποσκοπεί στο να δώσει στους μα
 θητές/τριες ένα βαθύτερο πλαίσιο κατανό
 ησης και αναγνώρισης των ψευδών ειδήσεω
 ν\, ενώ παράλληλα εστιάζει στον ρόλο που 
 καλείται να διαδραματίσει ο χρήστης περ
 ιεχομένου στην αντιμετώπιση αυτού του φ
 αινομένου.\nΘεματολογία:\n\n\n 	\n\n 	Τι είναι 
 οι ψευδείς ειδήσεις\;\n 	Τύποι ψευδών ειδή
 σεων και τα χαρακτηριστικά τους.\n 	Ο σκοπ
 ός ύπαρξης των ψευδών ειδήσεων.\n 	Οι επιπ
 τώσεις και οι κίνδυνοι διάδοσης ψευδών ε
 ιδήσεων μέσω των Μέσων Κοινωνικής Δικτύ
 ωσης.\n\n\n\nΗ ευθύνη του ατόμου στην αναγνώ
 ριση και καταπολέμηση των ψευδών ειδήσε
 ων και η καλλιέργεια κριτικής σκέψης ως 
 απάντηση στο φαινόμενο.\n\nΔιάρκεια εργασ
 τηρίου: 12:00 - 13:00\n\nΧωρητικότητα εργαστηρί
 ου: 30 μαθητές/τριες \n\nΥπεύθυνος εργαστη
 ρίου: Γιώργος Παυλίδης\, αναπληρωτής Καθ
 ηγητής του τμήματος Επικοινωνιών\, Πανεπ
 ιστήμιο Λευκωσίας\n\nΑπευθύνεται: Δευτερ
 οβάθμια/Μέση Εκπαίδευση\n\n&nbsp\;
ATTACH;FMTTYPE=image/jpeg:https://fest.europeanschoolradio.eu/wp-content/u
 ploads/2024/02/photo4.jpg
CATEGORIES:Workshop,Secondary Schools
END:VEVENT
BEGIN:VTIMEZONE
TZID:Europe/Athens
X-LIC-LOCATION:Europe/Athens
BEGIN:DAYLIGHT
DTSTART:20240331T040000
TZOFFSETFROM:+0200
TZOFFSETTO:+0300
TZNAME:EEST
END:DAYLIGHT
END:VTIMEZONE
END:VCALENDAR