BEGIN:VCALENDAR
VERSION:2.0
PRODID:-//wp-events-plugin.com//7.2.3.1//EN
TZID:Europe/Athens
X-WR-TIMEZONE:Europe/Athens
BEGIN:VEVENT
UID:181@fest.europeanschoolradio.eu
DTSTART;TZID=Europe/Athens:20240426T094500
DTEND;TZID=Europe/Athens:20240426T104500
DTSTAMP:20240418T071130Z
URL:https://fest.europeanschoolradio.eu/en/events/%cf%87%ce%bf%cf%81%ce%b5
 %cf%8d%ce%bf%cf%85%ce%bc%ce%b5-%ce%ba%cf%85%cf%80%cf%81%ce%b9%ce%b1%ce%ba%
 ce%ac-%ce%b4%ce%b9%ce%b4%ce%b1%cf%83%ce%ba%ce%b1%ce%bb%ce%af%ce%b1-%ce%ba%
 cf%85%cf%80%cf%81%ce%b9-2/
SUMMARY:Χορεύουμε Κυπριακά: Διδασκαλία κυπρ
 ιακών παραδοσιακών χορών (9:45 - 10:45)
DESCRIPTION:\n\n&nbsp\;\n\nΑς χορέψουμε κυπριακά\, με 
 τη βοήθεια χοροδιδασκάλων από τους Λαογ
 ραφικούς Ομίλους Αγλαντζιάς και ΠΑΟΚ Κλ
 ήρου που θα μας διδάξουν κυπριακούς παρα
 δοσιακούς χορούς.\nΤο γλέντι θα μεταφερθ
 εί στην κεντρική αυλή του σχολείου όπου 
 θα παρουσιάσουμε την μικρή χορευτική μα
 ς παράσταση.\n\n&nbsp\;\n\n&nbsp\;\n\nΔιάρκεια εργα
 στηρίου: 1 ώρα\n\nΧωρητικότητα εργαστηρίο
 υ: 30 μαθητές/τριες\n\nΥπεύθυνοι εργαστηρί
 ου: Λαογραφικός Όμιλος ΠΑΟΚ Κλήρου\n\n\nΑπ
 ευθύνεται: Πρωτοβάθμια/Δημοτική Εκπαίδε
 υση Εκπαίδευση\n\n&nbsp\;\n\n&nbsp\;
ATTACH;FMTTYPE=image/jpeg:https://fest.europeanschoolradio.eu/wp-content/u
 ploads/2024/02/1.jpg
CATEGORIES:Workshop,Primary Schools
END:VEVENT
BEGIN:VTIMEZONE
TZID:Europe/Athens
X-LIC-LOCATION:Europe/Athens
BEGIN:DAYLIGHT
DTSTART:20240331T040000
TZOFFSETFROM:+0200
TZOFFSETTO:+0300
TZNAME:EEST
END:DAYLIGHT
END:VTIMEZONE
END:VCALENDAR