BEGIN:VCALENDAR
VERSION:2.0
PRODID:-//wp-events-plugin.com//7.2.3.1//EN
TZID:Europe/Athens
X-WR-TIMEZONE:Europe/Athens
BEGIN:VEVENT
UID:270@fest.europeanschoolradio.eu
DTSTART;TZID=Europe/Athens;VALUE=DATE:20260422
DTEND;TZID=Europe/Athens;VALUE=DATE:20260426
DTSTAMP:20260322T073925Z
URL:https://fest.europeanschoolradio.eu/events/%f0%9f%8c%bf-%ce%b5%ce%bb%c
 e%b5%cf%8d%ce%b8%ce%b5%cf%81%ce%b5%cf%82-%cf%80%ce%b5%cf%81%ce%b9%ce%b7%ce
 %b3%ce%ae%cf%83%ce%b5%ce%b9%cf%82-%ce%b1%ce%bd%ce%b1%ce%ba%ce%ac%ce%bb%cf%
 85%cf%88%ce%b7-%cf%84/
SUMMARY:[:el]🌿 Ελεύθερες Περιηγήσεις & Ανακάλ
 υψη της Πόλης[:en]🌿 Suggested Independent Tours[:]
DESCRIPTION:[:el]Εκτός από το οργανωμένο πρόγραμ
 μα\, η Κέρκυρα σας προσκαλεί να ανακαλύψε
 τε τις κρυμμένες ομορφιές της με τον δικ
 ό σας ρυθμό. Από καταπράσινα πάρκα μέχρι 
 ψηφιακά μουσεία\, υπάρχουν σημεία στην π
 όλη που προσφέρουν μοναδικές εμπειρίες 
 ιστορίας και χαλάρωσης\, χωρίς να απαιτε
 ίται κράτηση.\n\n📍 Προτεινόμενα Σημεία Ε
 πίσκεψης\n🌳 Κτήμα Μον Ρεπό (Χερσόνησος Κ
 ανόνι): Ένας επίγειος παράδεισος με κατα
 πράσινο πάρκο και μονοπάτια που οδηγούν 
 σε αρχαίους ναούς και στη θάλασσα. Ιδανι
 κό για περπάτημα και ηρεμία. Πρόσβαση με 
 τα πόδια από την περιοχή της Γαρίτσας.\n
 🌊 Κόλπος &amp\; Άλσος Γαρίτσας: Ο παραλιακ
 ός πεζόδρομος με τον εμβληματικό ανεμόμ
 υλο είναι το τέλειο σημείο για έναν χαλα
 ρό περίπατο με την ομάδα σας. Στο Άλσος μ
 πορείτε να βρείτε χώρους για αθλητικές δ
 ραστηριότητες και αναψυχή.\n📜 Μουσείο Χ
 αρτονομισμάτων Ιονικής Τραπέζης: Ένα απ
 ό τα σημαντικότερα του είδους παγκοσμίω
 ς. Ανακαλύψτε 180 χρόνια ιστορίας του ελλη
 νικού κράτους μέσα από μια μοναδική νομι
 σματική συλλογή.\n💻 V Museum Corfu: Ζήστε την ε
 μπειρία του πρώτου ψηφιακού και διαδρασ
 τικού μουσείου του νησιού. Η ιστορία της 
 Κέρκυρας αναδεικνύεται με σύγχρονους κα
 ι διασκεδαστικούς τρόπους.\n\n🔗 Περισσότ
 ερες Επιλογές\nΓια περισσότερες ιδέες\, φ
 ωτογραφίες και λεπτομέρειες σχετικά με 
 τα αξιοθέατα\, μπορείτε να επισκεφθείτε 
 την επίσημη σελίδα του Φεστιβάλ: 👉 Ανακ
 αλύψτε την Κέρκυρα - Περισσότερες Πληροφ
 ορίες\n\n\n[:en]Beyond the scheduled program\, Corfu invites you to d
 iscover its hidden gems at your own pace. From lush green parks to digital
  museums\, there are spots in the city offering unique historical and rela
 xing experiences.\n\n\n 	\n🌳 Mon Repos Estate: A green park with trails
  leading to ancient temples and the sea.\n\n 	\n🌊 Garitsa Bay &amp\; Gr
 ove: Ideal for a seaside stroll or sports activities at the grove.\n\n 	\n
 📜 Banknote Museum: Explore 180 years of Greek history through a world-c
 lass collection.\n\n 	\n💻 V Museum Corfu: The first interactive digital
  museum in Corfu.\n\n\nFor more suggestions\, visit: Discover Corfu - More
  Info[:]
ATTACH;FMTTYPE=image/jpeg:https://fest.europeanschoolradio.eu/wp-content/u
 ploads/2026/03/city-corfu-01-1350X759.jpg
CATEGORIES:Δράσεις,Εκδρομή,Μουσείο
END:VEVENT
BEGIN:VTIMEZONE
TZID:Europe/Athens
X-LIC-LOCATION:Europe/Athens
BEGIN:DAYLIGHT
DTSTART:20260329T040000
TZOFFSETFROM:+0200
TZOFFSETTO:+0300
TZNAME:EEST
END:DAYLIGHT
END:VTIMEZONE
END:VCALENDAR