BEGIN:VCALENDAR
VERSION:2.0
PRODID:-//wp-events-plugin.com//7.2.3.1//EN
TZID:Europe/Athens
X-WR-TIMEZONE:Europe/Athens
BEGIN:VEVENT
UID:269@fest.europeanschoolradio.eu
DTSTART;TZID=Europe/Athens:20260424T093000
DTEND;TZID=Europe/Athens:20260424T123000
DTSTAMP:20260322T170710Z
URL:https://fest.europeanschoolradio.eu/events/%f0%9f%8e%b8-%ce%bc%ce%bf%c
 f%85%cf%83%ce%b9%ce%ba%ce%ae-%cf%83%ce%ba%ce%b7%ce%bd%ce%ae-open-stage-%cf
 %83%cf%84%ce%b1-1%ce%bf-2%ce%bf-%ce%b3%ce%b5%ce%bb-%ce%ba%ce%ad%cf%81%ce%b
 a%cf%85%cf%81%ce%b1/
SUMMARY:[:el]🎸 Μουσική Σκηνή: Open Stage στα 1ο & 2ο Γ
 ΕΛ Κέρκυρας[:]
DESCRIPTION:[:el]⏰ Ωράριο Δράσης: 09:30 – 12:30.\n⏳ Δι
 άρκεια: Η διάρκεια της κάθε εμφάνισης θα 
 εξαρτηθεί από τον αριθμό των συμμετοχών.
 \n🏫 Συμμετοχή: Δικαίωμα συμμετοχής έχου
 ν όλα τα σχολεία που συμμετέχουν στο Φεσ
 τιβάλ.\nΗ μουσική παίρνει τον πρώτο λόγο! 
 Την Παρασκευή το πρωί στήνεται μια μεγάλ
 η μουσική σκηνή στους χώρους του 1ου &amp\; 2
 ου ΓΕΛ Κέρκυρας\, δίνοντας την ευκαιρία σ
 τα συμμετέχοντα σχολεία να ανέβουν στο st
 age. Είτε πρόκειται για μουσικά σύνολα\, μπ
 άντες\, χορωδίες ή μεμονωμένους τραγουδι
 στές\, η σκηνή είναι ανοιχτή για να μοιρα
 στείτε το ταλέντο και τη δημιουργικότητ
 ά σας με όλο το Φεστιβάλ.\n\nΕλεύθερη είσο
 δος\n\n⚠️ ΣΗΜΑΝΤΙΚΗ ΣΗΜΕΙΩΣΗ: Παρακαλούν
 ται οι ενδιαφερόμενοι να στείλουν email στ
 ο fest.europeanschoolradio.eu με τον τρόπο συμμετοχής
  τους (π.χ. μουσικό συγκρότημα\, χορωδία\, 
 σόλο τραγούδι\, όργανα που θα χρησιμοποι
 ηθούν).\n[:en]⏰ Activity Schedule: 09:30 – 12:30.\n⏳ Duration: 
 The duration of each performance will depend on the number of participants
 .\n🏫 Participation: All schools participating in the Festival are eligi
 ble to take part.\nMusic takes center stage! On Friday morning\, a large m
 usic stage will be set up at the 1st &amp\; 2nd High School (GEL) of Corfu
 \, giving participating schools the opportunity to take the stage. Whether
  it is musical ensembles\, bands\, choirs\, or solo singers\, the stage is
  open for you to share your talent and creativity with the entire Festival
 .\n\n\n⚠️ IMPORTANT NOTE: Registration is required. Interested parties
  must specify in the registration comments their mode of participation (e.
 g.\, musical band\, choir\, solo singing\, instruments to be used).\n[:]
ATTACH;FMTTYPE=image/jpeg:https://fest.europeanschoolradio.eu/wp-content/u
 ploads/2026/03/ΜΟΥΣΙΚΗ-ΣΚΗΝΗ.png
CATEGORIES:Δράσεις,Εκδήλωση
LOCATION:[:el]1ο & 2ο Γενικό Λύκειο Κέρκυρας[:en]1st 
 & 2nd General High School of Corfu[:]\, Moυσoυργου Σπύρου Ξ
 ύνδα 4\, Κέρκυρα\, Κέρκυρα\, 491 00\, Ελλάδα
X-APPLE-STRUCTURED-LOCATION;VALUE=URI;X-ADDRESS=Moυσoυργου Σπύρ
 ου Ξύνδα 4\, Κέρκυρα\, Κέρκυρα\, 491 00\, Ελλάδ
 α;X-APPLE-RADIUS=100;X-TITLE=[:el]1ο & 2ο Γενικό Λύκειο Κ
 έρκυρας[:en]1st & 2nd General High School of Corfu[:]:geo:0,0
END:VEVENT
BEGIN:VTIMEZONE
TZID:Europe/Athens
X-LIC-LOCATION:Europe/Athens
BEGIN:DAYLIGHT
DTSTART:20260329T040000
TZOFFSETFROM:+0200
TZOFFSETTO:+0300
TZNAME:EEST
END:DAYLIGHT
END:VTIMEZONE
END:VCALENDAR