BEGIN:VCALENDAR
VERSION:2.0
PRODID:-//wp-events-plugin.com//7.2.3.1//EN
TZID:Europe/Athens
X-WR-TIMEZONE:Europe/Athens
BEGIN:VEVENT
UID:245@fest.europeanschoolradio.eu
DTSTART;TZID=Europe/Athens:20260423T110000
DTEND;TZID=Europe/Athens:20260423T130000
DTSTAMP:20260322T174915Z
URL:https://fest.europeanschoolradio.eu/events/%f0%9f%92%bb-%ce%b5%ce%ba%c
 f%80%ce%b1%ce%b9%ce%b4%ce%b5%cf%85%cf%84%ce%b9%ce%ba%cf%8c-%cf%83%ce%b5%ce
 %bc%ce%b9%ce%bd%ce%ac%cf%81%ce%b9%ce%bf-%ce%b5%cf%86%ce%b1%cf%81%ce%bc%ce%
 bf%ce%b3%ce%ae-%ce%b4/
SUMMARY:[:el]💻 Εκπαιδευτικό Σεμινάριο - Εφαρμ
 ογή Διαδικτυακού Ραδιοφώνου[:en]💻 Educational 
 Seminar - Internet Radio Application[:]
DESCRIPTION:[:el]⏳ Διάρκεια: 60 λεπτά (1 ώρα)\nΗ θεμ
 ατική αυτή παρουσιάζει τις τεχνολογικές
  υποδομές που υποστηρίζουν τη λειτουργί
 α του διαδικτυακού μαθητικού ραδιοφώνου
 . Οι συμμετέχοντες θα εξοικειωθούν με τη 
 διαδικτυακή πλατφόρμα και την εφαρμογή 
 για κινητά και τάμπλετ του European School Radio\, 
 μαθαίνοντας πώς να δημιουργούν και να με
 ταδίδουν διαδικτυακές εκπομπές\, να διαχ
 ειρίζονται το περιεχόμενο και να αξιοπο
 ιούν τις δυνατότητες του διαδικτυακού μ
 αθητικού ραδιοφώνου\n📝 Δήλωση Συμμετοχ
 ής: Απαιτείται δήλωση για ΚΑΘΕ ΣΧΟΛΕΙΟ.\n*
  Κάνετε κρατήσεις στα παράλληλα Εκπαιδε
 υτικά Σεμινάρια\, που θα υλοποιήσουν εισ
 ηγητές/τριες από το Ιόνιο Πανεπιστήμιο κ
 αι την Επιστημονική Εταιρεία European School Radi
 o\, την Πέμπτη 23 Απριλίου 2026\, 11.00-13.00.. Λάβε
 τε υπόψη ότι θα πραγματοποιηθούν σε διαφ
 ορετικούς χώρους\, αλλά θα είναι σε κοντι
 νές αποστάσεις. Δηλώνετε ισόποσα μαθητέ
 ς/τριες της ομάδας σας\, ανάλογα με τις/το
 υς Συνοδούς Εκπαιδευτικούς που έχετε.\n 
 * Δε χρειάζονται ονομαστικές καταστάσει
 ς. Αρκεί αριθμός μαθητών/τριών ανά Σεμιν
 άριο.[:en]⏳ Duration: 60 to 90 minutes (1 - 1.5 hours)\nThis topic p
 resents the technological infrastructures that support the operation of th
 e online school radio. Participants will become familiar with the European
  School Radio web platform and mobile and tablet application\, learning ho
 w to create and broadcast webcasts\, manage content and exploit the capabi
 lities of the online school radio.\n📝 Registration: Registration is req
 uired for EACH SCHOOL.\n🔗 Participation Form: (The link will be availab
 le here soon)[:]
ATTACH;FMTTYPE=image/jpeg:https://fest.europeanschoolradio.eu/wp-content/u
 ploads/2026/03/7.png
CATEGORIES:Eργαστήριο
LOCATION:[:el]Κερκυραϊκός Γυμναστικός Σύλλογο
 ς[:en]Corfu Gymnastics Association[:]\, Σταματίου Δεσύλλα
  1\, Κέρκυρα\, Κέρκυρα\, 491 00\, Ελλάδα
X-APPLE-STRUCTURED-LOCATION;VALUE=URI;X-ADDRESS=Σταματίου Δεσύ
 λλα 1\, Κέρκυρα\, Κέρκυρα\, 491 00\, Ελλάδα;X-APPLE
 -RADIUS=100;X-TITLE=[:el]Κερκυραϊκός Γυμναστικός Σ
 ύλλογος[:en]Corfu Gymnastics Association[:]:geo:0,0
END:VEVENT
BEGIN:VTIMEZONE
TZID:Europe/Athens
X-LIC-LOCATION:Europe/Athens
BEGIN:DAYLIGHT
DTSTART:20260329T040000
TZOFFSETFROM:+0200
TZOFFSETTO:+0300
TZNAME:EEST
END:DAYLIGHT
END:VTIMEZONE
END:VCALENDAR