BEGIN:VCALENDAR
VERSION:2.0
PRODID:-//wp-events-plugin.com//7.2.3.1//EN
TZID:Europe/Athens
X-WR-TIMEZONE:Europe/Athens
BEGIN:VEVENT
UID:243@fest.europeanschoolradio.eu
DTSTART;TZID=Europe/Athens:20260423T103000
DTEND;TZID=Europe/Athens:20260423T123000
DTSTAMP:20260322T175034Z
URL:https://fest.europeanschoolradio.eu/events/%f0%9f%94%8a-%ce%b5%ce%ba%c
 f%80%ce%b1%ce%b9%ce%b4%ce%b5%cf%85%cf%84%ce%b9%ce%ba%cf%8c-%cf%83%ce%b5%ce
 %bc%ce%b9%ce%bd%ce%ac%cf%81%ce%b9%ce%bf-%ce%b7%cf%87%ce%b7%cf%84%ce%b9%ce%
 ba%cf%8c%cf%82-%cf%83/
SUMMARY:[:el]🔊 Εκπαιδευτικό Σεμινάριο - Ηχητι
 κός Σχεδιασμός[:en]🔊 Educational Seminar - Sound Design[:]
DESCRIPTION:[:el]⏳ Διάρκεια: 60 έως 90 λεπτά (1 - 1\,5 ώ
 ρα)\nΟι συμμετέχοντες θα γνωρίσουν τις βα
 σικές αρχές του ηχητικού σχεδιασμού και 
 της μουσικής επιμέλειας\, μαθαίνοντας πώ
 ς ο ήχος\, η μουσική και τα ηχητικά εφέ μπ
 ορούν να χρησιμοποιηθούν δημιουργικά γι
 α την παραγωγή ραδιοφωνικών εκπομπών\, pod
 cast και ηχητικών αφηγήσεων. Μέσα από παρα
 δείγματα και πρακτικές ασκήσεις θα διερ
 ευνηθεί ο τρόπος με τον οποίο ο ήχος μπορ
 εί να λειτουργήσει ως καλλιτεχνικό και α
 φηγηματικό μέσο.\n📝 Δήλωση Συμμετοχής: Α
 παιτείται δήλωση για ΚΑΘΕ ΣΧΟΛΕΙΟ.\n* Κάν
 ετε κρατήσεις στα παράλληλα Εκπαιδευτικ
 ά Σεμινάρια\, που θα υλοποιήσουν εισηγητ
 ές/τριες από το Ιόνιο Πανεπιστήμιο και τ
 ην Επιστημονική Εταιρεία European School Radio\, τ
 ην Πέμπτη 23 Απριλίου 2026\, 11.00-13.00.. Λάβετε υ
 πόψη ότι θα πραγματοποιηθούν σε διαφορε
 τικούς χώρους\, αλλά θα είναι σε κοντινές
  αποστάσεις. Δηλώνετε ισόποσα μαθητές/τρ
 ιες της ομάδας σας\, ανάλογα με τις/τους Σ
 υνοδούς Εκπαιδευτικούς που έχετε.\n * Δε 
 χρειάζονται ονομαστικές καταστάσεις. Αρ
 κεί αριθμός μαθητών/τριών ανά Σεμινάριο.
 [:en]⏳ Duration: 60 to 90 minutes (1 - 1.5 hours)\nParticipants will lea
 rn the basic principles of sound design and music editing\, learning how s
 ound\, music and sound effects can be used creatively to produce radio sho
 ws\, podcasts and audio narratives. Through examples and practical exercis
 es\, they will explore how sound can function as an artistic and narrative
  medium.\n\n&nbsp\;\n📝 Registration: Registration is required for EACH 
 SCHOOL.\n🔗 Participation Form: (The link will be available here soon)[:
 ]
ATTACH;FMTTYPE=image/jpeg:https://fest.europeanschoolradio.eu/wp-content/u
 ploads/2026/03/5.png
CATEGORIES:Eργαστήριο
LOCATION:[:el]Κερκυραϊκός Γυμναστικός Σύλλογο
 ς[:en]Corfu Gymnastics Association[:]\, Σταματίου Δεσύλλα
  1\, Κέρκυρα\, Κέρκυρα\, 491 00\, Ελλάδα
X-APPLE-STRUCTURED-LOCATION;VALUE=URI;X-ADDRESS=Σταματίου Δεσύ
 λλα 1\, Κέρκυρα\, Κέρκυρα\, 491 00\, Ελλάδα;X-APPLE
 -RADIUS=100;X-TITLE=[:el]Κερκυραϊκός Γυμναστικός Σ
 ύλλογος[:en]Corfu Gymnastics Association[:]:geo:0,0
END:VEVENT
BEGIN:VTIMEZONE
TZID:Europe/Athens
X-LIC-LOCATION:Europe/Athens
BEGIN:DAYLIGHT
DTSTART:20260329T040000
TZOFFSETFROM:+0200
TZOFFSETTO:+0300
TZNAME:EEST
END:DAYLIGHT
END:VTIMEZONE
END:VCALENDAR