BEGIN:VCALENDAR
VERSION:2.0
PRODID:-//wp-events-plugin.com//7.2.3.1//EN
TZID:Europe/Athens
X-WR-TIMEZONE:Europe/Athens
BEGIN:VEVENT
UID:208@fest.europeanschoolradio.eu
DTSTART;TZID=Europe/Athens:20250409T200000
DTEND;TZID=Europe/Athens:20250409T220000
DTSTAMP:20250306T222447Z
URL:https://fest.europeanschoolradio.eu/events/dj-party-youth-in-the-mix/
SUMMARY:DJ Party “Youth in the mix”
DESCRIPTION:[:el]\n\nΣας προσκαλούμε να συμμετάσχ
 ετε στo DJ Party “Youth in the mix”\, μια μοναδική ε
 υκαιρία για να αναδείξουμε τα μουσικά τα
 λέντα των μαθητών μας και να ζήσουμε μαζ
 ί στιγμές γεμάτες μουσική και δημιουργι
 κότητα!\n\nΤι θα συμβεί\n\nΚάθε σχολείο θα ε
 κπροσωπηθεί από έναν μαθητή\, ο οποίος θα
  αναλάβει τον ρόλο του DJ και θα έχει 10 λεπ
 τά για να διασκεδάσει το κοινό με τις μου
 σικές του επιλογές. Οι μαθητές θα έχουν τ
 ην ευκαιρία να πειραματιστούν με μια κον
 σόλα\, να δημιουργήσουν ρυθμούς και να μο
 ιραστούν τη μουσική που αγαπούν!\n\nΠώς μπ
 ορεί ένα σχολείο να συμμετάσχει\n\nΓια να 
 συμμετάσχει ένα σχολείο\, απαιτείται η δ
 ήλωση του μαθητή που θα το εκπροσωπήσει. 
 Η δήλωση πρέπει να περιλαμβάνει:\n\n● Το σ
 χολείο που εκπροσωπεί ο μαθητής\n\n● Το ό
 νομα του μαθητή\n\n● Το καλλιτεχνικό του 
 όνομα (DJ Name)\n\n● Το είδος μουσικής που θα 
 παρουσιάσει (π.χ.\, Hip-Hop\, House\, Rock\, Funk\, Soul\, R&
 amp\;B\, Jazz κ.ά.)\n\n● Τα τραγούδια που θα επιλ
 έξει ο μαθητής/η μαθήτρια\, τα οποία θα πρ
 έπει να ανέβουν σε ένα Drive. Ο σύνδεσμος το
 υ Drive θα κοινοποιηθεί σε κάθε σχολείο μετ
 ά την ολοκλήρωση της δήλωσης.\n\nΤι αποτελ
 εί τον στόχο της εκδήλωσης\n\nΟ κύριος στό
 χος είναι να προσφέρουμε στα παιδιά μια 
 χαρούμενη και δημιουργική εμπειρία\, όπο
 υ θα μπορούν να εξερευνήσουν τον κόσμο τ
 ης μουσικής μέσα από τον ρόλο του DJ. Η εκδ
 ήλωση έχει σχεδιαστεί για να ενώσει τη κ
 οινότητα μας\, να αναπτύξει τη φαντασία τ
 ων μαθητών και να τους δώσει τη χαρά του 
 να δημιουργούν και να μοιράζονται ρυθμο
 ύς μαζί!\n\nΠοιος μπορεί να συμμετάσχει\n\n
 Όλα τα σχολεία που επιθυμούν να συμμετάσ
 χουν μπορούν να δηλώσουν έναν μαθητή ως 
 εκπρόσωπό τους.\n\nΠώς μπορούμε να κάνoυμε
  δήλωση\nΓια να δηλώσετε συμμετοχή\, συμπ
 ληρώστε την φόρμα στον παρακάτω σύνδεσμ
 ο: Σύνδεσμος Φόρμας\nΗ προθεσμία για τις 
 δηλώσεις είναι μέχρι τις 28 Μαρτίου 2025.\nΠ
 οια είναι η ημερομηνία και ώρα της εκδήλ
 ωσης\n\nΗ εκδήλωση θα πραγματοποιηθεί την
  Τετάρτη\, 21:30\, στο πλαίσιο του Φεστιβάλ τ
 ου European School Radio\, το οποίο θα λάβει χώρα στ
 ο Μαρμαρά.\n\nΜην χάσετε την ευκαιρία να ζ
 ήσετε μια βραδιά γεμάτη μουσική\, δημιου
 ργικότητα και διασκέδαση.\n\nΣας περιμένο
 υμε![:en]\n\nWe invite you to participate in the DJ Party "Youth in the
  mix"\, a unique opportunity to showcase the musical talents of our studen
 ts and experience together moments full of music and creativity!\n\nWhat w
 ill happen\n\nEach school/organization will be represented by a student\, 
 who will take on the role of DJ and will have 10 minutes to entertain the 
 audience with their musical choices. Kids/teenagers will have the opportun
 ity to experiment with a mixer\, create beats\, and share the music they l
 ove!\n\nHow can a team get involved?\n\nIn order for a team to participate
 \, the kid/teenager representing the school/organization is required to re
 gister. The statement must include:\n\nThe school/ organization the kid/te
 enager is representing\n\nThe name of the kid/teenager\n\nThe artistic nam
 e (DJ Name)\n\nThe music genre he/she will perform (e.g.\, Hip-Hop\, House
 \, Rock\, Funk\, Soul\, R&amp\;B\, Jazz\, etc.)\n\nThe songs the student w
 ill choose\, which should be uploaded to a Drive. The link to the Drive wi
 ll be shared with each school upon completion of the registration.\n\nWhat
  is the aim of the event?\n\nThe main objective is to provide children wit
 h a fun and creative experience where they can explore the world of music 
 through the role of a DJ. The event is designed to unite our community\, d
 evelop the imagination of the students\, and give them the joy of creating
  and sharing rhythms together!\n\nWho can participate\n\nAll schools wishi
 ng to participate can register a student as their representative.\n\nHow c
 an we fulfill the registration\n\nTo register\, please complete the form a
 t the link below: Dj’s Form Participation\n\nThe deadline for entries is
  28 March 2025.\n\nWhat is the date and time of the even?t\n\nThe event wi
 ll take place on Wednesday\, 21:30\, as part of the European School Radio 
 Festival\, which will take place in Marmaras.\n\nDon't miss the opportunit
 y to experience an evening full of music\, creativity\, and fun.\n\nWe are
  waiting for you![:]
ATTACH;FMTTYPE=image/jpeg:https://fest.europeanschoolradio.eu/wp-content/u
 ploads/2025/02/DJPARTY2025.jpg
CATEGORIES:Δευτεροβάθμιας,Εκδήλωση,Πρωτοβάθ
 ιας
LOCATION:Olympic Hall - Porto Carras\, Πόρτο Καρράς\, Νέος 
 Μαρμαράς \, Χαλκιδική\, 630 81 \, Πόρτο Καρράς
 \, Ελλάδα
X-APPLE-STRUCTURED-LOCATION;VALUE=URI;X-ADDRESS=Πόρτο Καρράς\, 
 Νέος Μαρμαράς \, Χαλκιδική\, 630 81 \, Πόρτο Κ
 αρράς\, Ελλάδα;X-APPLE-RADIUS=100;X-TITLE=Olympic Hall - Porto 
 Carras:geo:0,0
END:VEVENT
BEGIN:VTIMEZONE
TZID:Europe/Athens
X-LIC-LOCATION:Europe/Athens
BEGIN:DAYLIGHT
DTSTART:20250330T040000
TZOFFSETFROM:+0200
TZOFFSETTO:+0300
TZNAME:EEST
END:DAYLIGHT
END:VTIMEZONE
END:VCALENDAR